BEGIN:VCALENDAR
VERSION:2.0
PRODID:-//163 Plopi - ECPv6.11.2.1//NONSGML v1.0//EN
CALSCALE:GREGORIAN
METHOD:PUBLISH
X-WR-CALNAME:163 Plopi
X-ORIGINAL-URL:https://163plopi.ro
X-WR-CALDESC:Events for 163 Plopi
REFRESH-INTERVAL;VALUE=DURATION:PT1H
X-Robots-Tag:noindex
X-PUBLISHED-TTL:PT1H
BEGIN:VTIMEZONE
TZID:Europe/Bucharest
BEGIN:DAYLIGHT
TZOFFSETFROM:+0200
TZOFFSETTO:+0300
TZNAME:EEST
DTSTART:20210328T010000
END:DAYLIGHT
BEGIN:STANDARD
TZOFFSETFROM:+0300
TZOFFSETTO:+0200
TZNAME:EET
DTSTART:20211031T010000
END:STANDARD
END:VTIMEZONE
BEGIN:VEVENT
DTSTART;VALUE=DATE:20210507
DTEND;VALUE=DATE:20210510
DTSTAMP:20260421T133045
CREATED:20210506T161357Z
LAST-MODIFIED:20210506T161357Z
UID:2954-1620345600-1620604799@163plopi.ro
SUMMARY:Concurs de Sarituri peste Obstacole cu Cai 2021 - Summer Tour
DESCRIPTION:Concurs de Sarituri peste Obstacole cu Cai 2021\nSummer Tour\n7 – 9 Mai 2021 – Prejmer\nClubul Sportiv Ecvestru\, 163Plopi\nClubul Sportiv Ecvestru 163 Plopi\, organizeaza la Prejmer\, evenimente de Sarituri cu Cai peste Obstacole. Atat evenimente nationale cat si internationale. Din cauza situatiei din tara\, momentan toate competitiile noastre se desfasoara cu portile inchise. Ne pare rau pentru inconvenientele create\, insa pentru sanatatea tuturor\, consideram ca aceasta este cea mai potrivita solutie pentru toti. \nVa multumim pentru intelegere si speram sa revenim la normal cat mai curand posibil. \nSuccess concurentilor. \nInscriere aici\n[gravityform id=”1″ title=”true” description=”true”]
URL:https://163plopi.ro/evenimente/concurs-de-sarituri-peste-obstacole-cu-cai-2021-summer-tour/
LOCATION:Clubul Ecvestru 163 Plopi\, Str. Brasovului nr. 163\, Brasov\, Prejmer\, România
CATEGORIES:Anduranta,Atelaje,CAI,CAN,CC,CCI,CCN,CDI,CDN,CDN-P,CEI,CEN,CH - CDI,CH - CSI,CH CAI,CH CEI,CNC,CSI,CSN,CSN-P,CVN,Obst,Voltija,Voltije,WEG
ATTACH;FMTTYPE=image/jpeg:https://163plopi.ro/wp-content/uploads/2016/03/IMG_3888.jpg
ORGANIZER;CN="Clubul Ecvestru 163 Plopi":MAILTO:office@163plopi.ro
END:VEVENT
END:VCALENDAR