BEGIN:VCALENDAR
VERSION:2.0
PRODID:-//163 Plopi - ECPv6.11.2.1//NONSGML v1.0//EN
CALSCALE:GREGORIAN
METHOD:PUBLISH
X-ORIGINAL-URL:http://163plopi.ro
X-WR-CALDESC:Events for 163 Plopi
REFRESH-INTERVAL;VALUE=DURATION:PT1H
X-Robots-Tag:noindex
X-PUBLISHED-TTL:PT1H
BEGIN:VTIMEZONE
TZID:Europe/Bucharest
BEGIN:DAYLIGHT
TZOFFSETFROM:+0200
TZOFFSETTO:+0300
TZNAME:EEST
DTSTART:20190331T010000
END:DAYLIGHT
BEGIN:STANDARD
TZOFFSETFROM:+0300
TZOFFSETTO:+0200
TZNAME:EET
DTSTART:20191027T010000
END:STANDARD
BEGIN:DAYLIGHT
TZOFFSETFROM:+0200
TZOFFSETTO:+0300
TZNAME:EEST
DTSTART:20200329T010000
END:DAYLIGHT
BEGIN:STANDARD
TZOFFSETFROM:+0300
TZOFFSETTO:+0200
TZNAME:EET
DTSTART:20201025T010000
END:STANDARD
BEGIN:DAYLIGHT
TZOFFSETFROM:+0200
TZOFFSETTO:+0300
TZNAME:EEST
DTSTART:20210328T010000
END:DAYLIGHT
BEGIN:STANDARD
TZOFFSETFROM:+0300
TZOFFSETTO:+0200
TZNAME:EET
DTSTART:20211031T010000
END:STANDARD
END:VTIMEZONE
BEGIN:VEVENT
DTSTART;VALUE=DATE:20210507
DTEND;VALUE=DATE:20210510
DTSTAMP:20260421T165314
CREATED:20210506T161357Z
LAST-MODIFIED:20210506T161357Z
UID:2954-1620345600-1620604799@163plopi.ro
SUMMARY:Concurs de Sarituri peste Obstacole cu Cai 2021 - Summer Tour
DESCRIPTION:Concurs de Sarituri peste Obstacole cu Cai 2021\nSummer Tour\n7 – 9 Mai 2021 – Prejmer\nClubul Sportiv Ecvestru\, 163Plopi\nClubul Sportiv Ecvestru 163 Plopi\, organizeaza la Prejmer\, evenimente de Sarituri cu Cai peste Obstacole. Atat evenimente nationale cat si internationale. Din cauza situatiei din tara\, momentan toate competitiile noastre se desfasoara cu portile inchise. Ne pare rau pentru inconvenientele create\, insa pentru sanatatea tuturor\, consideram ca aceasta este cea mai potrivita solutie pentru toti. \nVa multumim pentru intelegere si speram sa revenim la normal cat mai curand posibil. \nSuccess concurentilor. \nInscriere aici\n[gravityform id=”1″ title=”true” description=”true”]
URL:http://163plopi.ro/evenimente/concurs-de-sarituri-peste-obstacole-cu-cai-2021-summer-tour/
LOCATION:Clubul Ecvestru 163 Plopi\, Str. Brasovului nr. 163\, Brasov\, Prejmer\, România
CATEGORIES:Anduranta,Atelaje,CAI,CAN,CC,CCI,CCN,CDI,CDN,CDN-P,CEI,CEN,CH - CDI,CH - CSI,CH CAI,CH CEI,CNC,CSI,CSN,CSN-P,CVN,Obst,Voltija,Voltije,WEG
ATTACH;FMTTYPE=image/jpeg:http://163plopi.ro/wp-content/uploads/2016/03/IMG_3888.jpg
ORGANIZER;CN="Clubul Ecvestru 163 Plopi":MAILTO:office@163plopi.ro
END:VEVENT
BEGIN:VEVENT
DTSTART;TZID=Europe/Bucharest:20191122T083000
DTEND;TZID=Europe/Bucharest:20191124T180000
DTSTAMP:20260421T165314
CREATED:20191124T093103Z
LAST-MODIFIED:20191124T093103Z
UID:2830-1574411400-1574618400@163plopi.ro
SUMMARY:Etapa I Equestrian Winter Tour
DESCRIPTION: Etapa I Equestrian Winter Tour\n organizat  in perioada 22.11.2019 – 24.11.2019\, de\nClubul Sportiv Ecvestru 163 Plopi si Federatia Ecvestra Romana\nla baza hipica din Prejmer\, Brasov\n\nCOMITETUL DE ORGANIZARE\n\nPresedinte de concurs : Fierbinteanu Ionel\nVicepresedinte de concurs: Ioana Aldea – Fierbinteanu\nDirector de concurs: Prodan Madalina – 0746 239 215\n\n\nJURIUL DE TEREN\n\nPresedinte: Madalina Hentes\nMembru: Sorin Soveja (level 2)\nMembru: Alin Catinas (N)\, Remus Haralambie (N)\, Anca Bogdan (N) – prin rotatie\nSef pista: Murat Batur (level 3)\nCronometraj: Gabriel Vatasoiu (level 1)\nSteward: Remus Haralambie (N)\nSteward: Anca Bogdan (N)\nSecretariat: Ioana Minulescu\nMedic de concurs: Anca Virgil 0730 884 842 FEI treating Vet\nPotcovar: Paul Josan\n\n   \nProgram și condiții tehnice\n  \nZiua 1 – Vineri 22 noiembrie 2019\n  \n8:30 Proba 1 – Proba de incurajare/Test Debutanti (daca este cazul) \nH = 0.70 m\, Art.238.1.1 fara baraj  ;   1 cls \nPremii: diplome \, cocarde  \n  \n9:00 Proba 2 – Cai deb\, Sportivi debutanti\, Amatori 1\, Copii 1 \nH = 0.80 m \, Art. 238.1.1 fara baraj  ;    4 cls \nPremii: diplome\, cocarde \n  \n11:00 Proba 3 – Nivel E\, Amatori 2\, Cai 5 ani \nH =  1.00 m\, Art.238.1.2&245.3 baraj inclus   ;   3 cls \nPremii: diplome\, cocarde \n  \n13:00 Proba 4 – Nivel D\, Copii 2\, Cai 6 ani \nH =  1.10 m\, Art. 238.2.1   ;   3 cls \nPremiu special  pt. nivel D\, Cai 6 ani: 800 lei/ 700 lei \nPremii Copii 2: diplome\, cocarde \n  \n15:00 Proba 5 – Nivel C\, Juniori\, Cai 7 ani \nH =  1.20 m\, Art. 239   ;   3 cls \nPremii: nivel C\, Cai 7 ani: 1500 lei/1000 lei \nPremii: Juniori: diplome\, cocarde \n  \n17:00 Proba 6 – Nivel B\, Tineret \nH =  1.30 m\, Art. 238.2.1  ;   2 cls \nPremii: nivel B \, Tineret: 2000 lei/750 lei \n  \n  \nZiua 2 – Sambata 23 noiembrie 2019\n\n8.30 Proba 7 – Proba de incurajare \nH = 0.70 m\, Art.238.1\,1  ;   1 cls \nPremii: diplome \, cocarde  \n  \n9:00 Proba 8 – Cai deb\,  Sportivi debutanti\, Amatori 1\, Copii 1 \nH = 0.85 m \, Art.238.1.1  ;    4 cls \nPremii: diplome\, cocarde \n  \n11:00 Proba 9 – Nivel E\, Amatori 2\, Cai 5 ani \nH =  1.00 m\, Art.274.2.5   ;   3 cls \nPremii: diplome\, cocarde \n  \n13:00 Proba 10 – Nivel D\, Copii 2\, Cai 6 ani \nH =  1.10 m\, Art.274.2.5   ;   3 cls \nPremiu special  pt. nivel D\, Cai 6 ani: 800 lei/ 700 lei \nPremii Copii 2: Produse Cavalor (primii 5 clasati) \n  \n15:00 Proba 11 – Nivel C\, Juniori\, Cai 7 ani \nH =  1.20 m\, Art 274.2.5.   ;   3 cls \nPremii: nivel C\, Cai 7 ani: 1500 lei/1000 lei \nPremii Copii 2: Produse Cavalor (primii 5 clasati) \n  \n17:00 Proba 12 – Nivel B\, Tineret \nH =  1.30/1.35 m\, Art.274.2.5   ;   2 cls \nPremii nivel B. Tineret: 2000 lei/750 lei \n  \n  \nZiua 3 – Duminica 24 noiembrie 2019\n  \n9:00 Proba 13 – Cai deb\,  Sportivi debutanti\, Amatori 1\, Copii 1 \nH = 0.85/0.90 m \, Art.274.2.5  ;    4 cls \nPremii: diplome\, cocarde \n  \n11:00 Proba 14 – Nivel E \nH =  1.00/1.05 m\, Art.238.2.1   ;   1 cls \nPremii:  dimplome\, cocarde \n  \n13:00 Proba 15 – Nivel D \nH = 1.10/ 1.15 m\, Art.239   ;   1 cls \nPremiu special pt. nivel D:  1000 lei \nPremii Copii 2: Produse Cavalor (primii 5 clasati) \n  \n15:00 Proba 16 – Nivel C \nH =  1.20/1.25 m\, Art.238.1.2   ;   1 cls \nPremii Nivel C: 2000  lei \n  \n17:00 Proba 17 – GP Equestrian Winter Tour Etapa I \nH =  1.35/1.40 m\, Art.238.2.2 cu baraj   ;   1 cls \nPremii Nivel B\, Tineret: 5500 lei \n\nTotal Premii:   22 000   lei +  produse echitatie\nPremiile se vor distribui conform grilei ( locul I – 30%\, etc.)\n  \nOrarul programului competitional se poate modifica in functie de numarul participantilor in probe\, conditii meteo nefavorabile\, aspecte imprevizibile. \n\n  \n  \n  \n  \nASPECTE ORGANIZATORICE\n\n\nConditii de concurs:\n\n\n– teren concurs (interior): Nisip          \, dimensiuni = 2800   mp \n– teren incalzire (interior) : Nisip       \, dimensiuni =  2000  mp \n\nConcursul se desfasoara conform regulamentului national competitional 2019 (cu modificarile comunicate) si a regulamentului de sarituri peste obstacole al FEI.\nCompetitiile de iarna cuprind 6 etape calificative si o Finala. Participarea in Finala este conditionata de participarea calului si a calaretului (in cuplu sau separat) la minim 4 etape de calificare.\nDesi se va trece in alt an competitional\, atat spotivii cat si caii pot lua startul -in toate cele 7 concursuri- la aceleasi categorii la care participa in etapele din noiembrie si decembrie 2019.\nSportivii minori trebuie sa fie asistati de antrenori sau instructori (conf. reg. FER)\nCompetitia se incadreaza la Categoria B\, conform sistemului de clasificare competitii\n\nPersoanele care efectueaza inscrierile finale raspund de corectitudinea acestora si sunt persoane responsabile pentru sportivii minori(daca nu mentioneaza o alta persoana in fisele de inscriere). Sportivii minori vor fi asistati de antrenori/instructori. \n\nInscrierile definitive vor contine numarul probei\, numele sportivului\, calului\, clubului\, al proprietarului\, categoria/ clasamentul pentru care opteaza.\nSe admit maxim 4 cai/proba pentru un sportiv.\nToti caii sunt obligati sa poarte numere\, alocate de secretariat\, pe toata perioada competitiei.\nCaii prezentaţi in probele de Copii si Juniori\, (Art. 10.3.e) nu pot fi încălziţi sub şa de altă persoană (sub pedeapsa descalificării) decât de sportivul care intră în probă. Aceşti cai pot fi plimbaţi la mână sau pot fi daţi la coardă de către o altă persoană autorizată.\nPeproba de nivel E pot intra: Amatorii I si Copii I.\nDaca exista intrebari legate de aspectele tehnice se pot discuta in ziua de joi 21.11.2019 la secretariat.\nFestivitatile de Premiere vor avea loc :\n\n– la sfarsitul fiecarei probe  (dupa cca. 5 minute); \n              – sportivii absenti (fara motive intemeiate si fara acordul Presedintelui J.T) de la                        festivitati\, vor fi descalificati.- extras din regulamentele in vigoare; \n              – la festivitati vor participa primii 5 clasati pentru fiecare categorie \nCod de exploatatie:  RO 0416760467 \n  \nInscrieri\n  \nInscrierile nominale\, pe probe si pe zile trebuie trimise prin email\, pana la data de 18.11.2019 la adresa de e-mail: inscrieri@163plopi.ro\, completate in formularul anexat din e-mail; retragerile se pot transmite pana la data de 19.11.2019\, fie prin e-mail fie telefonic\, daca retragerile vor fi transmise dupa aceasta data\, taxa de start va fi achitata ulterior catre organizatori\, exceptie fac cazurile de forta majora. \nCei care doresc sa plateasca prin banca\, vor solicita factura si vor achita prin banca taxele pana cel tarziu 18.11.2019. \nPrimirea cailor in baza: 21.11.2019\, ora 7:00. Eliberarea boxelor se face cel tarziu in data 25.11.2019\, ora 13. In afara acestei perioade\, se va percepe o taxa de 50 lei/cal/boxa. \n  \nPentru caii inscrisi\, dar care nu se prezinta la concurs\, se vor achita taxele aferente participarii.\n\nNumărul de boxe disponibile: 141 boxe in grajd + 24 de boxe la cort. Cazarea cailor in boxe se va face in ordinea primirii inscrierilor. \nCaii nu vor fi acceptați în curtea clubului 163 Plopi dacă nu sunt vaccinati corespunzator si nu au trecute analizele (anemia  infecțioasă) la zi pe pasaport\, pasapoartele si certificatele de transport se predau  la secretariat in ziua sosirii in baza sau pana cel tarziu 22.11.2019 ora 8:00. \nConditii cazare cai:     boxe mobile. \nTransmiterea inscrierilor/rezervare boxe se face pana la data de 18.11.2019: \nProdan Madalina Nicoleta – 0746 239 215 \,e-mail: inscrieri@163plopi.ro \n\nTaxe Concurs\n  \n\nProba de incurajare\, Copii I\, Amatori I\, Amatori II\, Cai si sportivi debutanti\, nivel E\, Cai 5 ani: taxa de start va fi de 650 lei/cal.\nPentru caii care participa la nivel D\, Copii 2\, Cai 6 ani: taxa de start va fi de 750 lei/cal.\nPentru caii care participa la nivel C\, Juniori\, Cai 7 ani: taxa de start va fi de 850 lei/cal.\nPentru caii care participa la nivel B\, Tineret: taxa de start va fi de 900 lei/cal.\nTaxa cai nepartanti: 450 lei/cal.\nTaxa conectare la electricitate: 170 lei.\n\nPentru caii care vor participa in 2 nivele se va percepe taxa nivelului superior. \n\n\nPeproba de nivel E pot intra: Amatorii I si Copii I.\n\n\nIn taxa de start este inclusa boxa si primul asternut. \nDin baza se pot achizitiona furaje pentru cai: \n\nFan 14 lei/balot;\nPaie 8 lei/balot;\nDiverse furaje Cavalor in limita stocului disponibil.
URL:http://163plopi.ro/evenimente/etapa-i-equestrian-winter-tour/
LOCATION:Clubul Ecvestru 163 Plopi\, Str. Brasovului nr. 163\, Brasov\, Prejmer\, România
CATEGORIES:Anduranta,Atelaje,CAI,CAN,CC,CCI,CCN,CDI,CDN,CDN-P,CEI,CEN,CH - CDI,CH - CSI,CH CAI,CH CEI
ATTACH;FMTTYPE=image/jpeg:http://163plopi.ro/wp-content/uploads/2019/11/equestrian-winter-tour-noiembrie-2019-163-plopi-prejmer.jpeg
ORGANIZER;CN="Clubul Ecvestru 163 Plopi":MAILTO:office@163plopi.ro
END:VEVENT
BEGIN:VEVENT
DTSTART;VALUE=DATE:20191024
DTEND;VALUE=DATE:20191028
DTSTAMP:20260421T165314
CREATED:20191009T000902Z
LAST-MODIFIED:20191009T001930Z
UID:2823-1571875200-1572220799@163plopi.ro
SUMMARY:CONCURS NATIONAL DE SARITURI PESTE OBSTACOLE - Finale Campionat Forta\, Echipe Seniori\, Amatori II Finale Criterii Copii I\, Amatori I
DESCRIPTION:CONCURS NATIONAL DE SARITURI PESTE OBSTACOLE\nFinale Campionat Forta\, Echipe Seniori\, Amatori II\nFinale Criterii Copii I\, Amatori I\n  \norganizat  in perioada 24.10.2019 – 27.10.2019\, de\nClubul Sportiv Ecvestru 163 Plopi si Federatia Ecvestra Romana\nla baza hipica din Prejmer\, Brasov\n[gravityform id=”1″ title=”true” description=”true”]\nCOMITETUL DE ORGANIZARE\n\nPresedinte de concurs : Fierbinteanu Ionel\nVicepresedinte de concurs: Ioana Aldea – Fierbinteanu\nDirector de concurs: Prodan Madalina – 0746 239 215\n\nJURIUL DE TEREN\n\nPresedinte: Mariana Moisei (level 3)\nMembru: Alin Catinas (N)\nMembru: Madalina Hentes (level 2)\nDelegat Tehnic: Selistean Claudiu (level 2)\nSef pista: Murat Batur (level 3)\nCronometraj: Gabriel Vatasoiu (N)\nSteward: Remus Haralambie (N)\nSteward: Anca Bogdan (N)\nSecretariat: Ioana Minulescu\nMedic de concurs: Anca Virgil 0730 884 842 FEI treating Vet\nPotcovar: Paul Josan\n\n  \nProgram și condiții tehnice\n \nZiua 1 – vineri 25 octombrie 2019\n8:00 Proba 1.1 –  Amatori 1\,  Cai si Sportivi debutanti  \nH = 0.80 m \, Art. 238.1.1 (fara baraj) ; 1 cls. \nPremii : diplome\, cocarde \n  \n8:30 Proba 1.2 –  Criteriul Copii 1- Mansa 1 \nH = 0.90 m\, Art.238.1.1 (fara baraj) \n  \n10:00 Proba 2 – Nivel E \nH = 1.00 m\, Art.238.2.1 ;   1 cls \nPremii: diplome \, cocarde  \n11:30 Proba 3 – Nivel D \nH = 1.10 m \, Art. 238.1.2&245.3 ;    1 cls \nPremiu special: 1500 lei \n13:30 Proba 4 – Nivel C \nH = 1.20 m\, Art. 239   ; 1 cls \nPremii: 2000  lei \n  \n15:30 Proba 5 – Nivel B  \nH =  1.30 m\, Art. 274.2.5  ;   1 cls \nPremii: 2500 lei \n  \nZiua 2 – sambata 26 octombrie 2019\n09:00 Proba 6.1 – Cai si sportivi debutanti\, \nH=0\,80 m \, Art.238.2.1;  1 cls. \nPremii : diplome\, cocarde \n           Proba 6.2 Criteriul Amatori 1- Mansa 1 \nH = 0.80 m\,  (Art. 238.2.1); Art.273.3.3.3.1 \n  \n10:30 Proba 7 – Criteriul Copii 1- Mansa 2 \nH = 0.95 m\, Art.238.1.1(fara baraj) \n  \n11:00 Proba 8.1 Campionat Amatori 2 -Mansa 1 \nH = 1.00 m\, (Art.238.2.1) Art.273.3.3.1 \n          Proba 8.2 -Nivel E \nH=1.00 m\, Art. 238.2.1; 1 cls. \nPremii: diplome\, cocarde  \n12:30 Proba 9 – Nivel D \nH = 1.10 m \, Art. 274.2.5 ( in 2 faze);  1 cls. \nPremiu special: 2000 lei \n14:30 Proba 10 – Nivel C  \nH = 1.20 m \, Art. 274.2.5 ( in 2 faze);  1 cls \nPremii:  2500 lei \n  \n16:00 Proba 11 – Campionat Echipe Seniori (M 1 + M 2)  \nH =  1.30 m\, Art. 264.1.2\, 3.6\, 4.2\, 8.3\, 9.2.  ;   1 cls \nPremii: 15 000 lei \n  \n  \nZiua 3 – duminica 27 octombrie 2019\n09:00 Proba 12.1 – Cai si sportivi debutanti \nH = 0.80 m\, Art. 238.2.1; 1 cls. \nPremii : diplome\, cocarde \n           Proba 12.2 Criteriul Amatori 1- Mansa 2 \nH = 0.80 m \, (Art.238.2.1) Art. 273.3.3.3.1\, \nPremii : diplome \, cocarde pt. Clasament general (M1+M2)  \n  \n10:30 Proba 13.1 – Nivel E\,  \nH=1.00 m\, Art.274.2.5;  1cls. \nPremii : diplome\, cocarde \n         Proba 13.2     Criteriul Copii 1 -Mansa 3 (eventual baraj pt. loc I)\, Art.  238.2.1 \n         Proba 13.3     Campionat Amatori 2- Mansa 2 (eventual baraj pt. loc I)\, Art.238.1.1 \nPremii: diplome \, cocarde pt. Clasament general Criteriul Copii 1(M1+M2+ M3) si Clasament general Campionat Amatori 2 (M1+M2) \n  \n12:30 Proba 14 – Nivel D\,  \nH = 1.10 m\,  Art. 238.2.1 ;   1 cls \nPremiu special : 2500 lei \n  \n14:00 Proba 15 – Campionat Forta  \nH =  1.60 m art. 262.1.2  1 cls \nPremii:  10 000 lei \n  \n16:00 Proba 16 – Open (Nivel C) \nH = 1.20 m\, Art. 274.2.5 ( in 2 faze\, faza 2 H=1.25 m);  1 cls \nPremii: 3000 lei \nTotal Premii:     41.000 lei + produse echitatie/furaje pentru cai\nPremiile se vor distribui conform grilei ( locul I -30%\, etc.)\n  \nOrarul programului competitional se poate modifica in functie de numarul participantilor in probe\, conditii meteo nefavorabile\, aspecte imprevizibile. \nASPECTE ORGANIZATORICE\n\nConditii de concurs:\n\n– teren concurs (exterior): Nisip          \, dimensiuni = 2800   mp \n– teren incalzire (interior) : Nisip        \, dimensiuni =  2030  mp \n\nConcursul se desfasoara conform regulamentului national competitional 2019 (cu modificarile comunicate) si a regulamentului de sarituri peste obstacole al FEI.\nCompetitia se incadreaza la Categoria A\, conform sistemului de clasificare competitii\n\nPersoanele care efectueaza inscrierile finale raspund de corectitudinea acestora si sunt persoane responsabile pentru sportivii minori(daca nu mentioneaza o alta persoana in fisele de inscriere). Sportivii minori vor fi asistati de antrenori/instructori. \n\nInscrierile definitive vor contine numarul probei\, numele sportivului\, calului\, clubului\, al proprietarului\, categoria/ clasamentul pentru care opteaza.\nSe admit maxim 3 cai/proba pentru un sportiv.\nPentru toate Finalele individuale (Campionate si Criterii)\, se va nominaliza un cal si acesta va lua startul primul dintre caii  pe care ii prezinta sportivul.\nToti caii sunt obligati sa poarte numere\, alocate de secretariat\, pe toata perioada competitiei.\nCaii prezentaţi in probele de Copii si Juniori\, (Art. 10.3.e) nu pot fi încălziţi sub şa de altă persoană (sub pedeapsa descalificării) decât de sportivul care intră în probă. Aceşti cai pot fi plimbaţi la mână sau pot fi daţi la coardă de către o altă persoană autorizată.\nOrdinea de start se va stabili prin tragere la sorti\, pentru proba nr. 11- Echipe Seniori.\nFestivitatile de Premiere vor avea loc :\n– dupa incheierea Mansei finale (pentru probele oficiale Finale) sau\n         – la sfarsitul fiecarei probe\, pentru celelalte  (dupa cca. 5 minute);\n– sportivii absenti (fara motive intemeiate si fara acordul Presedintelui J.T) de la                   festivitati\, vor fi descalificati.- extras din regulamentele in vigoare;\n– sportivii Seniori isi pot scoate toca  in timpul intonarii imnului – extras din                         regulamente FEI ;\n– la festivitati vor participa primii 5 clasati pentru fiecare categorie\n\n  \nInscrieri\nInscrierile nominale\, pe probe si pe zile trebuie trimise prin email\, pana la data de 14.10.2019 la adresa de e-mail: inscrieri@163plopi.ro\, completate in formularul anexat din e-mail; retragerile se pot transmite pana la data de 14.10.2019\, fie prin e-mail fie telefonic\, daca retragerile vor fi transmise dupa aceasta data\, taxa de start va fi achitata ulterior catre organizatori\, exceptie fac cazurile de forta majora.\nCei care doresc sa plateasca prin banca\, vor solicita factura si vor achita prin banca taxele pana cel tarziu 18.10.2019.\nPrimirea cailor in baza: 24.10.2019\, ora 7:00. Eliberarea boxelor se face cel tarziu in data 28.10.2019\, ora 13. In afara acestei perioade\, se va percepe o taxa de 50 lei/cal/boxa.\nPentru caii inscrisi\, dar care nu se prezinta la concurs\, se vor achita taxele aferente participarii.\nNumărul de boxe disponibile: 120 boxe in grajd + 10 de boxe la cort. Cazarea cailor in boxe se va face in ordinea primirii inscrierilor.\nCaii nu vor fi acceptați în curtea clubului 163 Plopi dacă nu sunt vaccinati corespunzator si nu au trecute analizele (anemia  infecțioasă) la zi pe pasaport\, pasapoartele si certificatele de transport se predau  la secretariat in ziua sosirii in baza sau pana cel tarziu 25.10.2019 ora 8:00.\nConditii cazare cai:     boxe mobile.\nTransmiterea inscrierilor/rezervare boxe se face pana la data de 14.10.2019:\nProdan Madalina Nicoleta – 0746 239 215 \,e-mail: inscrieri@163plopi.ro\nTaxe Concurs\nCopii I\, Amatori I\, Amatori II\, Cai si sportivi debutanti\, nivel E: taxa de start va fi de 650 lei/cal.\n\nPentru caii care participa la nivel D: taxa de start va fi de 750 lei/cal.\nPentru caii care participa la nivel C: taxa de start va fi de 800 lei/cal.\nPentru caii care participa la nivel B: taxa de start va fi de 850 lei/cal.\nPentru caii care participa la nivel A: taxa de start va fi de 950 lei/cal.\nTaxa cai nepartanti: 450 lei/cal.\nTaxa conectare la electricitate: 170 lei.\nPentru caii care vor participa in 2 nivele se va percepe taxa nivelului superior. \n\nIn taxa de start este inclusa boxa si primul asternut. \nDin baza se pot achizitiona furaje pentru cai: \n\nFan 14 lei/balot;\nPaie 8 lei/balot;\nDiverse furaje Cavalor in limita stocului disponibil.
URL:http://163plopi.ro/evenimente/concurs-national-de-sarituri-peste-obstacole-finale-campionat-forta-echipe-seniori-amatori-ii-finale-criterii-copii-i-amatori-i/
LOCATION:Clubul Ecvestru 163 Plopi\, Str. Brasovului nr. 163\, Brasov\, Prejmer\, România
CATEGORIES:Anduranta,Atelaje,CAI,CAN,CC,CCI,CCN,CDI,CDN
ATTACH;FMTTYPE=image/jpeg:http://163plopi.ro/wp-content/uploads/2016/03/IMG_3223.jpg
ORGANIZER;CN="Clubul Ecvestru 163 Plopi":MAILTO:office@163plopi.ro
END:VEVENT
END:VCALENDAR